BEGIN:VCALENDAR
VERSION:2.0
PRODID:-//ChamberMaster//Event Calendar 2.0//EN
METHOD:PUBLISH
X-PUBLISHED-TTL:P3D
REFRESH-INTERVAL:P3D
CALSCALE:GREGORIAN
BEGIN:VEVENT
DTSTART;VALUE=DATE:20080410
DTEND;VALUE=DATE:20080411
TRANSP:TRANSPARENT
X-MICROSOFT-CDO-ALLDAYEVENT:TRUE
SUMMARY:Women's Council Program & Spring Basket Event
DESCRIPTION:
X-ALT-DESC;FMTTYPE=text/html:
LOCATION:The Bridges Golf Club-Garden Pavilion 9000 S. Gale Ridge Road San Ramon\, CA 94582
UID:e.9487.48
SEQUENCE:3
DTSTAMP:20260422T140209Z
URL:https://www.biabayarea.org/events/details/women-s-council-program-spring-basket-event-04-10-2008-48
END:VEVENT

END:VCALENDAR
