BEGIN:VCALENDAR
VERSION:2.0
PRODID:-//ChamberMaster//Event Calendar 2.0//EN
METHOD:PUBLISH
X-PUBLISHED-TTL:P3D
REFRESH-INTERVAL:P3D
CALSCALE:GREGORIAN
BEGIN:VEVENT
DTSTART;VALUE=DATE:20071128
DTEND;VALUE=DATE:20071129
TRANSP:TRANSPARENT
X-MICROSOFT-CDO-ALLDAYEVENT:TRUE
SUMMARY:''The State of Lending in Today's Housing Market'' Dinner -AND- New Member Reception!
DESCRIPTION:
X-ALT-DESC;FMTTYPE=text/html:
LOCATION:Pleasanton Hilton 7050 Johnson Dr. Pleasanton\, CA 94588
UID:e.9487.34
SEQUENCE:3
DTSTAMP:20260422T230636Z
URL:https://www.biabayarea.org/events/details/the-state-of-lending-in-today-s-housing-market-dinner-and-new-member-reception-11-28-2007-34
END:VEVENT

END:VCALENDAR
