BEGIN:VCALENDAR
VERSION:2.0
PRODID:-//ChamberMaster//Event Calendar 2.0//EN
METHOD:PUBLISH
X-PUBLISHED-TTL:P3D
REFRESH-INTERVAL:P3D
CALSCALE:GREGORIAN
BEGIN:VEVENT
DTSTART;VALUE=DATE:20080811
DTEND;VALUE=DATE:20080812
TRANSP:TRANSPARENT
X-MICROSOFT-CDO-ALLDAYEVENT:TRUE
SUMMARY:Southern Division. After Golf Reception Only
DESCRIPTION:
X-ALT-DESC;FMTTYPE=text/html:
LOCATION:Cinnabar Hills Golf Club 23600 McKean Road San Jose\, CA 95141
UID:e.9487.67
SEQUENCE:3
DTSTAMP:20260422T061055Z
URL:https://www.biabayarea.org/events/details/southern-division-after-golf-reception-only-08-11-2008-67
END:VEVENT

END:VCALENDAR
