BEGIN:VCALENDAR
VERSION:2.0
PRODID:-//ChamberMaster//Event Calendar 2.0//EN
METHOD:PUBLISH
X-PUBLISHED-TTL:P3D
REFRESH-INTERVAL:P3D
CALSCALE:GREGORIAN
BEGIN:VEVENT
DTSTART;VALUE=DATE:20100325
DTEND;VALUE=DATE:20100326
TRANSP:TRANSPARENT
X-MICROSOFT-CDO-ALLDAYEVENT:TRUE
SUMMARY:Social Media FULL DAY Workshop
DESCRIPTION:
X-ALT-DESC;FMTTYPE=text/html:
LOCATION:101 Ygnacio Valley Road 4th Floor Conference Room Walnut Creek\, CA 94596
UID:e.9487.117
SEQUENCE:3
DTSTAMP:20260420T181704Z
URL:https://www.biabayarea.org/events/details/social-media-full-day-workshop-03-25-2010-117
END:VEVENT

END:VCALENDAR
