BEGIN:VCALENDAR
VERSION:2.0
PRODID:-//ChamberMaster//Event Calendar 2.0//EN
METHOD:PUBLISH
X-PUBLISHED-TTL:P3D
REFRESH-INTERVAL:P3D
CALSCALE:GREGORIAN
BEGIN:VEVENT
DTSTART;VALUE=DATE:20100325
DTEND;VALUE=DATE:20100326
TRANSP:TRANSPARENT
X-MICROSOFT-CDO-ALLDAYEVENT:TRUE
SUMMARY:SMC Program & Awards Night
DESCRIPTION:
X-ALT-DESC;FMTTYPE=text/html:
LOCATION:1345 Treat Blvd. Walnut Creek\, CA 94596
UID:e.9487.114
SEQUENCE:3
DTSTAMP:20260420T195353Z
URL:https://www.biabayarea.org/events/details/smc-program-awards-night-03-25-2010-114
END:VEVENT

END:VCALENDAR
