BEGIN:VCALENDAR
VERSION:2.0
PRODID:-//ChamberMaster//Event Calendar 2.0//EN
METHOD:PUBLISH
X-PUBLISHED-TTL:P3D
REFRESH-INTERVAL:P3D
CALSCALE:GREGORIAN
BEGIN:VEVENT
DTSTART;VALUE=DATE:20100210
DTEND;VALUE=DATE:20100211
TRANSP:TRANSPARENT
X-MICROSOFT-CDO-ALLDAYEVENT:TRUE
SUMMARY:SB 800 Workshop / Attorney Soliciation
DESCRIPTION:
X-ALT-DESC;FMTTYPE=text/html:
LOCATION:1970 Diamond Blvd Concord\, CA 94520
UID:e.9487.111
SEQUENCE:3
DTSTAMP:20260420T214633Z
URL:https://www.biabayarea.org/events/details/sb-800-workshop-attorney-soliciation-02-10-2010-111
END:VEVENT

END:VCALENDAR
