BEGIN:VCALENDAR
VERSION:2.0
PRODID:-//ChamberMaster//Event Calendar 2.0//EN
METHOD:PUBLISH
X-PUBLISHED-TTL:P3D
REFRESH-INTERVAL:P3D
CALSCALE:GREGORIAN
BEGIN:VEVENT
DTSTART;VALUE=DATE:20091001
DTEND;VALUE=DATE:20091002
TRANSP:TRANSPARENT
X-MICROSOFT-CDO-ALLDAYEVENT:TRUE
SUMMARY:San Francisco Housing Program & Lunch
DESCRIPTION:
X-ALT-DESC;FMTTYPE=text/html:
LOCATION:Fort Mason\, Building A (on the marina) San Francisco\, CA 94123
UID:e.9487.104
SEQUENCE:3
DTSTAMP:20260421T074854Z
URL:https://www.biabayarea.org/events/details/san-francisco-housing-program-lunch-10-01-2009-104
END:VEVENT

END:VCALENDAR
