BEGIN:VCALENDAR
VERSION:2.0
PRODID:-//ChamberMaster//Event Calendar 2.0//EN
METHOD:PUBLISH
X-PUBLISHED-TTL:P3D
REFRESH-INTERVAL:P3D
CALSCALE:GREGORIAN
BEGIN:VEVENT
DTSTART;VALUE=DATE:20080731
DTEND;VALUE=DATE:20080801
TRANSP:TRANSPARENT
X-MICROSOFT-CDO-ALLDAYEVENT:TRUE
SUMMARY:Regional: Women's Council + Sales & Marketing Council. Art & Wine SoirÃƒÂ©e
DESCRIPTION:
X-ALT-DESC;FMTTYPE=text/html:
LOCATION:
UID:e.9487.65
SEQUENCE:3
DTSTAMP:20260422T095836Z
URL:https://www.biabayarea.org/events/details/regional-women-s-council-sales-marketing-council-art-wine-soir&#227;ƒ&#226;-e-07-31-2008-65
END:VEVENT

END:VCALENDAR
