BEGIN:VCALENDAR
VERSION:2.0
PRODID:-//ChamberMaster//Event Calendar 2.0//EN
METHOD:PUBLISH
X-PUBLISHED-TTL:P3D
REFRESH-INTERVAL:P3D
CALSCALE:GREGORIAN
BEGIN:VEVENT
DTSTART;VALUE=DATE:20090226
DTEND;VALUE=DATE:20090227
TRANSP:TRANSPARENT
X-MICROSOFT-CDO-ALLDAYEVENT:TRUE
SUMMARY:Regional: SMC Mixer with Jeff Shore & Jim Suth
DESCRIPTION:
X-ALT-DESC;FMTTYPE=text/html:
LOCATION:2460 Old Crow Canyon Road San Ramon\, CA 94583
UID:e.9487.85
SEQUENCE:3
DTSTAMP:20260421T190720Z
URL:https://www.biabayarea.org/events/details/regional-smc-mixer-with-jeff-shore-jim-suth-02-26-2009-85
END:VEVENT

END:VCALENDAR
