BEGIN:VCALENDAR
VERSION:2.0
PRODID:-//ChamberMaster//Event Calendar 2.0//EN
METHOD:PUBLISH
X-PUBLISHED-TTL:P3D
REFRESH-INTERVAL:P3D
CALSCALE:GREGORIAN
BEGIN:VEVENT
DTSTART;VALUE=DATE:20081106
DTEND;VALUE=DATE:20081107
TRANSP:TRANSPARENT
X-MICROSOFT-CDO-ALLDAYEVENT:TRUE
SUMMARY:Regional: SMC & Green Working Group Fall Dinner
DESCRIPTION:
X-ALT-DESC;FMTTYPE=text/html:
LOCATION:680 Bollinger Canyon Way (near Canyon Lakes Golf & Club Sport) San Ramon\, CA 94583
UID:e.9487.77
SEQUENCE:3
DTSTAMP:20260422T005037Z
URL:https://www.biabayarea.org/events/details/regional-smc-green-working-group-fall-dinner-11-06-2008-77
END:VEVENT

END:VCALENDAR
