BEGIN:VCALENDAR
VERSION:2.0
PRODID:-//ChamberMaster//Event Calendar 2.0//EN
METHOD:PUBLISH
X-PUBLISHED-TTL:P3D
REFRESH-INTERVAL:P3D
CALSCALE:GREGORIAN
BEGIN:VEVENT
DTSTART;VALUE=DATE:20090115
DTEND;VALUE=DATE:20090116
TRANSP:TRANSPARENT
X-MICROSOFT-CDO-ALLDAYEVENT:TRUE
SUMMARY:Regional: PWB New Member Open House
DESCRIPTION:
X-ALT-DESC;FMTTYPE=text/html:
LOCATION:1365 N. Main Street Walnut Creek\, CA 94596
UID:e.9487.83
SEQUENCE:3
DTSTAMP:20260421T203658Z
URL:https://www.biabayarea.org/events/details/regional-pwb-new-member-open-house-01-15-2009-83
END:VEVENT

END:VCALENDAR
