BEGIN:VCALENDAR
VERSION:2.0
PRODID:-//ChamberMaster//Event Calendar 2.0//EN
METHOD:PUBLISH
X-PUBLISHED-TTL:P3D
REFRESH-INTERVAL:P3D
CALSCALE:GREGORIAN
BEGIN:VEVENT
DTSTART;VALUE=DATE:20090310
DTEND;VALUE=DATE:20090311
TRANSP:TRANSPARENT
X-MICROSOFT-CDO-ALLDAYEVENT:TRUE
SUMMARY:Regional: PASS Lunch
DESCRIPTION:
X-ALT-DESC;FMTTYPE=text/html:
LOCATION:2600 Bishop Ranch Drive San Ramon\, CA 94583
UID:e.9487.87
SEQUENCE:3
DTSTAMP:20260421T173923Z
URL:https://www.biabayarea.org/events/details/regional-pass-lunch-03-10-2009-87
END:VEVENT

END:VCALENDAR
