BEGIN:VCALENDAR
VERSION:2.0
PRODID:-//ChamberMaster//Event Calendar 2.0//EN
METHOD:PUBLISH
X-PUBLISHED-TTL:P3D
REFRESH-INTERVAL:P3D
CALSCALE:GREGORIAN
BEGIN:VEVENT
DTSTART;VALUE=DATE:20081106
DTEND;VALUE=DATE:20081107
TRANSP:TRANSPARENT
X-MICROSOFT-CDO-ALLDAYEVENT:TRUE
SUMMARY:Regional: P.A.S.S. Lunch
DESCRIPTION:
X-ALT-DESC;FMTTYPE=text/html:
LOCATION:San Ramon Marriott 2600 Bishop Ranch Drive San Ramon\, CA 94583
UID:e.9487.76
SEQUENCE:3
DTSTAMP:20260422T022934Z
URL:https://www.biabayarea.org/events/details/regional-p-a-s-s-lunch-11-06-2008-76
END:VEVENT

END:VCALENDAR
