BEGIN:VCALENDAR
VERSION:2.0
PRODID:-//ChamberMaster//Event Calendar 2.0//EN
METHOD:PUBLISH
X-PUBLISHED-TTL:P3D
REFRESH-INTERVAL:P3D
CALSCALE:GREGORIAN
BEGIN:VEVENT
DTSTART;VALUE=DATE:20080611
DTEND;VALUE=DATE:20080612
TRANSP:TRANSPARENT
X-MICROSOFT-CDO-ALLDAYEVENT:TRUE
SUMMARY:Regional: HBANC Fellowship Breakfast - 06/11/2008
DESCRIPTION:
X-ALT-DESC;FMTTYPE=text/html:
LOCATION:San Ramon Marriott 2600 Bishop Drive San Ramon\, CA 94583
UID:e.9487.57
SEQUENCE:3
DTSTAMP:20260422T093556Z
URL:https://www.biabayarea.org/events/details/regional-hbanc-fellowship-breakfast-06-11-2008-06-11-2008-57
END:VEVENT

END:VCALENDAR
