BEGIN:VCALENDAR
VERSION:2.0
PRODID:-//ChamberMaster//Event Calendar 2.0//EN
METHOD:PUBLISH
X-PUBLISHED-TTL:P3D
REFRESH-INTERVAL:P3D
CALSCALE:GREGORIAN
BEGIN:VEVENT
DTSTART;VALUE=DATE:20081017
DTEND;VALUE=DATE:20081018
TRANSP:TRANSPARENT
X-MICROSOFT-CDO-ALLDAYEVENT:TRUE
SUMMARY:Regional: DRE Forum
DESCRIPTION:
X-ALT-DESC;FMTTYPE=text/html:
LOCATION:Round Hill Country Club 3165 Roundhill Drive Alamo\, CA 94507
UID:e.9487.74
SEQUENCE:3
DTSTAMP:20260422T022750Z
URL:https://www.biabayarea.org/events/details/regional-dre-forum-10-17-2008-74
END:VEVENT

END:VCALENDAR
