BEGIN:VCALENDAR
VERSION:2.0
PRODID:-//ChamberMaster//Event Calendar 2.0//EN
METHOD:PUBLISH
X-PUBLISHED-TTL:P3D
REFRESH-INTERVAL:P3D
CALSCALE:GREGORIAN
BEGIN:VEVENT
DTSTART;VALUE=DATE:20091029
DTEND;VALUE=DATE:20091030
TRANSP:TRANSPARENT
X-MICROSOFT-CDO-ALLDAYEVENT:TRUE
SUMMARY:PASS Monster Mash Mini Trade Show
DESCRIPTION:
X-ALT-DESC;FMTTYPE=text/html:
LOCATION:San Ramon Marriott 2600 Bishop Ranch Drive San Ramon\, CA 94583
UID:e.9487.107
SEQUENCE:3
DTSTAMP:20260421T043829Z
URL:https://www.biabayarea.org/events/details/pass-monster-mash-mini-trade-show-10-29-2009-107
END:VEVENT

END:VCALENDAR
