BEGIN:VCALENDAR
VERSION:2.0
PRODID:-//ChamberMaster//Event Calendar 2.0//EN
METHOD:PUBLISH
X-PUBLISHED-TTL:P3D
REFRESH-INTERVAL:P3D
CALSCALE:GREGORIAN
BEGIN:VEVENT
DTSTART;VALUE=DATE:20080728
DTEND;VALUE=DATE:20080729
TRANSP:TRANSPARENT
X-MICROSOFT-CDO-ALLDAYEVENT:TRUE
SUMMARY:NorthernDivision. After Golf Reception Only
DESCRIPTION:
X-ALT-DESC;FMTTYPE=text/html:
LOCATION:Santa Rosa Golf & Country Club 333 Country Club Drive Santa Rosa\, CA 95403
UID:e.9487.64
SEQUENCE:3
DTSTAMP:20260422T075221Z
URL:https://www.biabayarea.org/events/details/northerndivision-after-golf-reception-only-07-28-2008-64
END:VEVENT

END:VCALENDAR
