BEGIN:VCALENDAR
VERSION:2.0
PRODID:-//ChamberMaster//Event Calendar 2.0//EN
METHOD:PUBLISH
X-PUBLISHED-TTL:P3D
REFRESH-INTERVAL:P3D
CALSCALE:GREGORIAN
BEGIN:VEVENT
DTSTART;VALUE=DATE:20080514
DTEND;VALUE=DATE:20080515
TRANSP:TRANSPARENT
X-MICROSOFT-CDO-ALLDAYEVENT:TRUE
SUMMARY:Northern Division.Quarterly dinner meeting:
DESCRIPTION:
X-ALT-DESC;FMTTYPE=text/html:
LOCATION:Hilton Wine Country Hotel 3555 Round Barn Blvd Santa Rosa\, CA 95403
UID:e.9487.55
SEQUENCE:3
DTSTAMP:20260422T105651Z
URL:https://www.biabayarea.org/events/details/northern-division-quarterly-dinner-meeting-05-14-2008-55
END:VEVENT

END:VCALENDAR
