BEGIN:VCALENDAR
VERSION:2.0
PRODID:-//ChamberMaster//Event Calendar 2.0//EN
METHOD:PUBLISH
X-PUBLISHED-TTL:P3D
REFRESH-INTERVAL:P3D
CALSCALE:GREGORIAN
BEGIN:VEVENT
DTSTART;VALUE=DATE:20070927
DTEND;VALUE=DATE:20070928
TRANSP:TRANSPARENT
X-MICROSOFT-CDO-ALLDAYEVENT:TRUE
SUMMARY:Northern Division Member Appreciation ''Oktoberfest''
DESCRIPTION:
X-ALT-DESC;FMTTYPE=text/html:
LOCATION:2755 Mendocino Avenue Santa Rosa\, CA 95403
UID:e.9487.26
SEQUENCE:3
DTSTAMP:20260423T033827Z
URL:https://www.biabayarea.org/events/details/northern-division-member-appreciation-oktoberfest-09-27-2007-26
END:VEVENT

END:VCALENDAR
