BEGIN:VCALENDAR
VERSION:2.0
PRODID:-//ChamberMaster//Event Calendar 2.0//EN
METHOD:PUBLISH
X-PUBLISHED-TTL:P3D
REFRESH-INTERVAL:P3D
CALSCALE:GREGORIAN
BEGIN:VEVENT
DTSTART;VALUE=DATE:20081210
DTEND;VALUE=DATE:20081211
TRANSP:TRANSPARENT
X-MICROSOFT-CDO-ALLDAYEVENT:TRUE
SUMMARY:Northern Division Holiday Reception
DESCRIPTION:
X-ALT-DESC;FMTTYPE=text/html:
LOCATION:333 Country Club Drive Santa Rosa\, CA 95401
UID:e.9487.81
SEQUENCE:3
DTSTAMP:20260422T001500Z
URL:https://www.biabayarea.org/events/details/northern-division-holiday-reception-12-10-2008-81
END:VEVENT

END:VCALENDAR
