BEGIN:VCALENDAR
VERSION:2.0
PRODID:-//ChamberMaster//Event Calendar 2.0//EN
METHOD:PUBLISH
X-PUBLISHED-TTL:P3D
REFRESH-INTERVAL:P3D
CALSCALE:GREGORIAN
BEGIN:VEVENT
DTSTART;VALUE=DATE:20070207
DTEND;VALUE=DATE:20070208
TRANSP:TRANSPARENT
X-MICROSOFT-CDO-ALLDAYEVENT:TRUE
SUMMARY:Northern Division Governmental Affairs - 02/07/2007
DESCRIPTION:
X-ALT-DESC;FMTTYPE=text/html:
LOCATION:3555 Round Barn Blvd Santa Rosa\, CA 95403
UID:e.9487.1
SEQUENCE:3
DTSTAMP:20260423T171522Z
URL:https://www.biabayarea.org/events/details/northern-division-governmental-affairs-02-07-2007-02-07-2007-1
END:VEVENT

END:VCALENDAR
