BEGIN:VCALENDAR
VERSION:2.0
PRODID:-//ChamberMaster//Event Calendar 2.0//EN
METHOD:PUBLISH
X-PUBLISHED-TTL:P3D
REFRESH-INTERVAL:P3D
CALSCALE:GREGORIAN
BEGIN:VEVENT
DTSTART;VALUE=DATE:20071205
DTEND;VALUE=DATE:20071206
TRANSP:TRANSPARENT
X-MICROSOFT-CDO-ALLDAYEVENT:TRUE
SUMMARY:Northern Division Annual Holiday and Leadership Recognition Dinner
DESCRIPTION:
X-ALT-DESC;FMTTYPE=text/html:
LOCATION:4350 Barns Road Santa Rosa\, CA 95403
UID:e.9487.35
SEQUENCE:3
DTSTAMP:20260422T214026Z
URL:https://www.biabayarea.org/events/details/northern-division-annual-holiday-and-leadership-recognition-dinner-12-05-2007-35
END:VEVENT

END:VCALENDAR
