BEGIN:VCALENDAR
VERSION:2.0
PRODID:-//ChamberMaster//Event Calendar 2.0//EN
METHOD:PUBLISH
X-PUBLISHED-TTL:P3D
REFRESH-INTERVAL:P3D
CALSCALE:GREGORIAN
BEGIN:VEVENT
DTSTART;VALUE=DATE:20090714
DTEND;VALUE=DATE:20090715
TRANSP:TRANSPARENT
X-MICROSOFT-CDO-ALLDAYEVENT:TRUE
SUMMARY:MIT Mtg w/Julie Youngblood
DESCRIPTION:
X-ALT-DESC;FMTTYPE=text/html:
LOCATION:P.O. Box 5160 200 Porter Drive\, Suite 200 San Ramon\, CA 94583
UID:e.9487.99
SEQUENCE:3
DTSTAMP:20260421T111810Z
URL:https://www.biabayarea.org/events/details/mit-mtg-w-julie-youngblood-07-14-2009-99
END:VEVENT

END:VCALENDAR
