BEGIN:VCALENDAR
VERSION:2.0
PRODID:-//ChamberMaster//Event Calendar 2.0//EN
METHOD:PUBLISH
X-PUBLISHED-TTL:P3D
REFRESH-INTERVAL:P3D
CALSCALE:GREGORIAN
BEGIN:VEVENT
DTSTART:20090217T080000Z
DTEND:20090217T080000Z
X-MICROSOFT-CDO-ALLDAYEVENT:FALSE
SUMMARY:Members In Transition Meeting
DESCRIPTION:
X-ALT-DESC;FMTTYPE=text/html:
LOCATION:P.O. Box 5160 200 Porter Drive\, Suite 220 San Ramon\, CA 94583
UID:e.9487.281
SEQUENCE:3
DTSTAMP:20260421T190501Z
URL:https://www.biabayarea.org/events/details/members-in-transition-meeting-02-17-2009-281
END:VEVENT

END:VCALENDAR
