BEGIN:VCALENDAR
VERSION:2.0
PRODID:-//ChamberMaster//Event Calendar 2.0//EN
METHOD:PUBLISH
X-PUBLISHED-TTL:P3D
REFRESH-INTERVAL:P3D
CALSCALE:GREGORIAN
BEGIN:VEVENT
DTSTART;VALUE=DATE:20111209
DTEND;VALUE=DATE:20111210
TRANSP:TRANSPARENT
X-MICROSOFT-CDO-ALLDAYEVENT:TRUE
SUMMARY:John Burns Economic Forecast - 12/09/2011
DESCRIPTION:
X-ALT-DESC;FMTTYPE=text/html:
LOCATION:11950 Dublin Canyon Road Pleasanton\, CA 94588
UID:e.9487.147
SEQUENCE:3
DTSTAMP:20260420T110703Z
URL:https://www.biabayarea.org/events/details/john-burns-economic-forecast-12-09-2011-12-09-2011-147
END:VEVENT

END:VCALENDAR
