BEGIN:VCALENDAR
VERSION:2.0
PRODID:-//ChamberMaster//Event Calendar 2.0//EN
METHOD:PUBLISH
X-PUBLISHED-TTL:P3D
REFRESH-INTERVAL:P3D
CALSCALE:GREGORIAN
BEGIN:VEVENT
DTSTART;VALUE=DATE:20071205
DTEND;VALUE=DATE:20071206
TRANSP:TRANSPARENT
X-MICROSOFT-CDO-ALLDAYEVENT:TRUE
SUMMARY:John Burns Economic Forecast - 12/05/2007
DESCRIPTION:
X-ALT-DESC;FMTTYPE=text/html:
LOCATION:
UID:e.9487.36
SEQUENCE:3
DTSTAMP:20260422T225054Z
URL:https://www.biabayarea.org/events/details/john-burns-economic-forecast-12-05-2007-12-05-2007-36
END:VEVENT

END:VCALENDAR
