BEGIN:VCALENDAR
VERSION:2.0
PRODID:-//ChamberMaster//Event Calendar 2.0//EN
METHOD:PUBLISH
X-PUBLISHED-TTL:P3D
REFRESH-INTERVAL:P3D
CALSCALE:GREGORIAN
BEGIN:VEVENT
DTSTART;VALUE=DATE:20091203
DTEND;VALUE=DATE:20091204
TRANSP:TRANSPARENT
X-MICROSOFT-CDO-ALLDAYEVENT:TRUE
SUMMARY:John Burns Economic Forecast - 12/03/2009
DESCRIPTION:
X-ALT-DESC;FMTTYPE=text/html:
LOCATION:2600 Bishop Drive San Ramon\, CA 94583
UID:e.9487.109
SEQUENCE:3
DTSTAMP:20260421T005727Z
URL:https://www.biabayarea.org/events/details/john-burns-economic-forecast-12-03-2009-12-03-2009-109
END:VEVENT

END:VCALENDAR
