BEGIN:VCALENDAR
VERSION:2.0
PRODID:-//ChamberMaster//Event Calendar 2.0//EN
METHOD:PUBLISH
X-PUBLISHED-TTL:P3D
REFRESH-INTERVAL:P3D
CALSCALE:GREGORIAN
BEGIN:VEVENT
DTSTART;VALUE=DATE:20070630
DTEND;VALUE=DATE:20070701
TRANSP:TRANSPARENT
X-MICROSOFT-CDO-ALLDAYEVENT:TRUE
SUMMARY:Evening of Dreams Charity Ball
DESCRIPTION:
X-ALT-DESC;FMTTYPE=text/html:
LOCATION:
UID:e.9487.15
SEQUENCE:3
DTSTAMP:20260423T092316Z
URL:https://www.biabayarea.org/events/details/evening-of-dreams-charity-ball-06-30-2007-15
END:VEVENT

END:VCALENDAR
