BEGIN:VCALENDAR
VERSION:2.0
PRODID:-//ChamberMaster//Event Calendar 2.0//EN
METHOD:PUBLISH
X-PUBLISHED-TTL:P3D
REFRESH-INTERVAL:P3D
CALSCALE:GREGORIAN
BEGIN:VEVENT
DTSTART;VALUE=DATE:20080630
DTEND;VALUE=DATE:20080701
TRANSP:TRANSPARENT
X-MICROSOFT-CDO-ALLDAYEVENT:TRUE
SUMMARY:Eastern Division. Golf Tournament
DESCRIPTION:
X-ALT-DESC;FMTTYPE=text/html:
LOCATION:Castlewood Country Club 707 Country Club Circle Pleasanton\, CA 94566
UID:e.9487.61
SEQUENCE:3
DTSTAMP:20260422T094536Z
URL:https://www.biabayarea.org/events/details/eastern-division-golf-tournament-06-30-2008-61
END:VEVENT

END:VCALENDAR
