BEGIN:VCALENDAR
VERSION:2.0
PRODID:-//ChamberMaster//Event Calendar 2.0//EN
METHOD:PUBLISH
X-PUBLISHED-TTL:P3D
REFRESH-INTERVAL:P3D
CALSCALE:GREGORIAN
BEGIN:VEVENT
DTSTART;VALUE=DATE:20080313
DTEND;VALUE=DATE:20080314
TRANSP:TRANSPARENT
X-MICROSOFT-CDO-ALLDAYEVENT:TRUE
SUMMARY:Eastern Division Dinner: FOCUS ON THE FUTURE
DESCRIPTION:
X-ALT-DESC;FMTTYPE=text/html:
LOCATION:San Ramon Marriott 2600 Bishop Ranch Drive San Ramon\, CA 94583
UID:e.9487.47
SEQUENCE:3
DTSTAMP:20260422T163121Z
URL:https://www.biabayarea.org/events/details/eastern-division-dinner-focus-on-the-future-03-13-2008-47
END:VEVENT

END:VCALENDAR
