BEGIN:VCALENDAR
VERSION:2.0
PRODID:-//ChamberMaster//Event Calendar 2.0//EN
METHOD:PUBLISH
X-PUBLISHED-TTL:P3D
REFRESH-INTERVAL:P3D
CALSCALE:GREGORIAN
BEGIN:VEVENT
DTSTART;VALUE=DATE:20090826
DTEND;VALUE=DATE:20090827
TRANSP:TRANSPARENT
X-MICROSOFT-CDO-ALLDAYEVENT:TRUE
SUMMARY:Builder Education Series #4:State Building Code Changes/GreenPoint Rated Update
DESCRIPTION:
X-ALT-DESC;FMTTYPE=text/html:
LOCATION:P.O. Box 5160 200 Porter Drive\, Suite 200 San Ramon\, CA 94583
UID:e.9487.102
SEQUENCE:3
DTSTAMP:20260421T111215Z
URL:https://www.biabayarea.org/events/details/builder-education-series-4-state-building-code-changes-greenpoint-rated-update-08-26-2009-102
END:VEVENT

END:VCALENDAR
