BEGIN:VCALENDAR
VERSION:2.0
PRODID:-//ChamberMaster//Event Calendar 2.0//EN
METHOD:PUBLISH
X-PUBLISHED-TTL:P3D
REFRESH-INTERVAL:P3D
CALSCALE:GREGORIAN
BEGIN:VEVENT
DTSTART;VALUE=DATE:20101021
DTEND;VALUE=DATE:20101022
TRANSP:TRANSPARENT
X-MICROSOFT-CDO-ALLDAYEVENT:TRUE
SUMMARY:BIA/SMC Builder Panel Dinner Meeting
DESCRIPTION:
X-ALT-DESC;FMTTYPE=text/html:
LOCATION:11950 Dublin Canyon Road Pleasanton\, CA 94588
UID:e.9487.127
SEQUENCE:3
DTSTAMP:20260419T225302Z
URL:https://www.biabayarea.org/events/details/bia-smc-builder-panel-dinner-meeting-10-21-2010-127
END:VEVENT

END:VCALENDAR
