BEGIN:VCALENDAR
VERSION:2.0
PRODID:-//ChamberMaster//Event Calendar 2.0//EN
METHOD:PUBLISH
X-PUBLISHED-TTL:P3D
REFRESH-INTERVAL:P3D
CALSCALE:GREGORIAN
BEGIN:VEVENT
DTSTART;VALUE=DATE:20110127
DTEND;VALUE=DATE:20110128
TRANSP:TRANSPARENT
X-MICROSOFT-CDO-ALLDAYEVENT:TRUE
SUMMARY:BIA Installation Reception
DESCRIPTION:
X-ALT-DESC;FMTTYPE=text/html:
LOCATION:11950 Dublin Canyon Road Pleasanton\, CA 94588
UID:e.9487.133
SEQUENCE:3
DTSTAMP:20260419T135149Z
URL:https://www.biabayarea.org/events/details/bia-installation-reception-01-27-2011-133
END:VEVENT

END:VCALENDAR
