BEGIN:VCALENDAR
VERSION:2.0
PRODID:-//ChamberMaster//Event Calendar 2.0//EN
METHOD:PUBLISH
X-PUBLISHED-TTL:P3D
REFRESH-INTERVAL:P3D
CALSCALE:GREGORIAN
BEGIN:VEVENT
DTSTART;VALUE=DATE:20080812
DTEND;VALUE=DATE:20080813
TRANSP:TRANSPARENT
X-MICROSOFT-CDO-ALLDAYEVENT:TRUE
SUMMARY:50+ Council Audio Seminar
DESCRIPTION:
X-ALT-DESC;FMTTYPE=text/html:
LOCATION:HBANC Conference Room 200 Porter Drive San Ramon\, CA 94583
UID:e.9487.68
SEQUENCE:3
DTSTAMP:20260422T055833Z
URL:https://www.biabayarea.org/events/details/50-council-audio-seminar-08-12-2008-68
END:VEVENT

END:VCALENDAR
