BEGIN:VCALENDAR
VERSION:2.0
PRODID:-//ChamberMaster//Event Calendar 2.0//EN
METHOD:PUBLISH
X-PUBLISHED-TTL:P3D
REFRESH-INTERVAL:P3D
CALSCALE:GREGORIAN
BEGIN:VEVENT
DTSTART;VALUE=DATE:20080112
DTEND;VALUE=DATE:20080113
TRANSP:TRANSPARENT
X-MICROSOFT-CDO-ALLDAYEVENT:TRUE
SUMMARY:2008 Installation Gala
DESCRIPTION:
X-ALT-DESC;FMTTYPE=text/html:
LOCATION:The Palace Hotel 2 New Montgomery Street San Francisco\, CA 94105
UID:e.9487.38
SEQUENCE:3
DTSTAMP:20260422T181313Z
URL:https://www.biabayarea.org/events/details/2008-installation-gala-01-12-2008-38
END:VEVENT

END:VCALENDAR
